Workbook

Sheet Plan1
A3: Comparação de custos na produção trigo / milho 2ª safra | I3: 2014 | L3: Comparação de custos na produção milho 2ª safra / trigo /há | T3: 2017
B4: kg | C4: Milho 2ª safra | E4: Trigo | F4: (normal) | H4: Trigo RBO | M4: kg | N4: Milho 2ª safra | P4: Trigo | Q4: (normal) | S4: Trigo RBO | Y4: Custos milho 2ª safra
C5: Prêço | D5: R$ | F5: Prêço | G5: R$ | J5: R$ | L5: Custos | N5: Prêço | O5: R$ | Q5: Prêço | R5: R$ | U5: R$ | Y5: Dessecação
A6: Roundup dessecação | B6: 2.5 | C6: 17 | D6: 42.5 | E6: 2.5 | F6: 17 | G6: 42.5 | J6: 42.5 | L6: Roundup dessecação | M6: 1.6 | N6: 15 | O6: =M6*N6 -> 24 | P6: 1.6 | Q6: 15 | R6: =P6*Q6 -> 24 | U6: =R6 -> 24 | Y6: Roundup | Z6: 1.6 | AA6: 15 | AB6: =Z6*AA6 -> 24
A7: Adubo | B7: 250 | C7: 1.2 | D7: 300 | E7: 200 | F7: 1.2 | G7: 240 | J7: 240 | L7: Adubo | M7: 360 | N7: 1.4 | O7: =M7*N7 -> 504 | P7: 250 | Q7: 1.4 | R7: =P7*Q7 -> 350 | U7: =R7 -> 350 | Z7: Soma: | AB7: =SUM(AB6) -> 24
A8: Semente tratada | B8: 20 | C8: 22 | D8: 440 | E8: 165 | F8: 2.1 | G8: 346.5 | H8: 130 | I8: 2.4 | J8: 312 | L8: Semente tratada | M8: 17.5 | N8: 35 | O8: =M8*N8 -> 612.5 | P8: 125 | Q8: 1.5 | R8: =P8*Q8 -> 187.5 | S8: 110 | T8: 1.5 | U8: =S8*T8 -> 165 | Y8: Adubação | Z8: 360 | AA8: 1.4 | AB8: =Z8*AA8 -> 504
A9: Cobertura | B9: 60 | C9: 1.3 | D9: 78 | E9: 50 | F9: 1.3 | G9: 65 | J9: 65 | L9: Cobertura | M9: 80 | N9: 1.5 | O9: =M9*N9 -> 120 | P9: 130 | Q9: 1.5 | R9: =P9*Q9 -> 195 | U9: =R9 -> 195 | AB9: =Z9*AA9 -> 0
A10: Herbicidas | B10: 2.5 | C10: 12 | D10: 30 | E10: 1 | F10: 10 | G10: 10 | J10: 10 | L10: Herbicidas | M10: 6 | N10: 24 | O10: =M10*N10 -> 144 | P10: 3 | Q10: 24 | R10: =P10*Q10 -> 72 | U10: =R10 -> 72 | Y10: Semente | Z10: 17.5 | AA10: 30 | AB10: =Z10*AA10 -> 525
E11: 0.1 | F11: 420 | G11: 42 | J11: 42 | M11: 8 | N11: 16 | O11: =M11*N11 -> 128 | P11: 0.16 | Q11: 485 | R11: =P11*Q11 -> 77.6 | U11: =R11 -> 77.6 | Y11: tratamento | Z11: 1 | AA11: 87.5 | AB11: =Z11*AA11 -> 87.5
A12: Inseticida Percev/ outr | B12: 0.3 | C12: 160 | D12: 48 | E12: 0.3 | F12: 160 | G12: 48 | J12: 48 | L12: Inseticida Percev/ outr | M12: 0.3 | N12: 170 | O12: =M12*N12 -> 51 | P12: 0.3 | Q12: 170 | R12: =P12*Q12 -> 51 | U12: =R12 -> 51 | Z12: Soma: | AB12: =SUM(AB10:AB11) -> 612.5
A13: Fungicida | B13: 0.3 | C13: 182 | D13: 54.6 | E13: 0.6 | F13: 182 | G13: 109.2 | H13: 0.3 | I13: 182 | J13: 54.6 | L13: Fungicida | M13: 0.3 | N13: 170 | O13: =M13*N13 -> 51 | P13: 0.3 | Q13: 170 | R13: =P13*Q13 -> 51 | S13: 0.15 | T13: 170 | U13: =S13*T13 -> 25.5 | Y13: Adubo cobertura | Z13: 80 | AA13: 1.5 | AB13: =Z13*AA13 -> 120
A14: Plantio | D14: 40 | G14: 40 | J14: 40 | L14: Plantio | M14: 1 | N14: 60 | O14: 65 | P14: 1 | Q14: 65 | R14: =P14*Q14 -> 65 | U14: =R14 -> 65 | Y14: Herbicidas | AB14: =Z14*AA14 -> 0
A15: Aplicação defensivos | B15: 3 | C15: 10 | D15: 30 | E15: 5 | F15: 10 | G15: 50 | H15: 4 | I15: 10 | J15: 40 | L15: Aplicação defensivos | M15: 5 | N15: 10 | O15: =M15*N15 -> 50 | P15: 5 | Q15: 10 | R15: =P15*Q15 -> 50 | S15: 4 | T15: 12 | U15: =S15*T15 -> 48
A16: MO | B16: 3 | C16: 35 | D16: 105 | E16: 5 | F16: 35 | G16: 175 | H16: 4 | I16: 35 | J16: 140 | L16: MO | M16: 5 | N16: 40 | O16: =M16*N16 -> 200 | P16: 5 | Q16: 40 | R16: =P16*Q16 -> 200 | S16: 4 | T16: 35 | U16: =S16*T16 -> 140
A17: Colheita | B17: 5 | C17: 22 | D17: 92.5 | E17: 2.2 | F17: 40 | G17: 88 | J17: 88 | L17: Colheita | M17: 5 | N17: 21 | O17: 130 | P17: 2.5 | Q17: =R21 -> 34.5 | R17: 110 | U17: =R17 -> 110
A18: Soma: | D18: 1218.1 | G18: 1213.7 | J18: 1079.6 | L18: Soma: | O18: =SUM(O6:O17) -> 2079.5 | R18: =SUM(R6:R17) -> 1433.1 | U18: =SUM(U6:U17) -> 1323.1
Q19: = | R19: =R18/O18 -> 0.68915605 | S19: milho | T19: = | U19: =U18/O18 -> 0.63625872
R20: relativo a | S20: tr normal | T20: = | U20: =U18/R18 -> 0.92324332
A21: Rendimentos | B21: Prêço milho: | D21: 22 | E21: Prêço trigo: | G21: 41 | L21: Rendimentos | M21: Prêço milho: | O21: 23 | P21: Prêço trigo: | R21: 34.5
A22: sc/há | B22: frete | C22: Receit/há | D22: Sobras | E22: sc/há | F22: frete | G22: Rec/há | H22: Sobras | I22: RBO | J22: Sobras | L22: sc/há | M22: frete | N22: Receit/há | O22: Sobras | P22: sc/há | Q22: frete | R22: Rec/há | S22: Sobras | T22: RBO | U22: Sobras
A23: 100 | B23: =A23*B$26 -> 200 | C23: =A23*D$21 -> 2200 | D23: =C23-D$18-B23 -> 781.9 | E23: 52 | F23: =E23*B$26 -> 104 | G23: =E23*G$21 -> 2132 | H23: =G23-G$18-F23 -> 814.3 | J23: =G23-J$18-F23 -> 948.4 | L23: 100 | M23: =L23*M$26 -> 210 | N23: =L23*O$21 -> 2300 | O23: =N23-O$18-M23 -> 10.5 | P23: 52 | Q23: =P23*M$26 -> 109.2 | R23: =P23*R$21 -> 1794 | S23: =R23-R$18-Q23 -> 251.7 | U23: =R23-U$18-Q23 -> 361.7
A24: 125 | B24: =A24*B$26 -> 250 | C24: =A24*D$21 -> 2750 | D24: =C24-D$18-B24-48 -> 1233.9 | E24: 65 | F24: =E24*B$26 -> 130 | G24: =E24*G$21 -> 2665 | H24: =G24-G$18-F24-48 -> 1273.3 | J24: =G24-J$18-F24-48 -> 1407.4 | L24: 125 | M24: =L24*M$26 -> 262.5 | N24: =L24*O$21 -> 2875 | O24: =N24-O18-M24-56 -> 477 | P24: 65 | Q24: =P24*M$26 -> 136.5 | R24: =P24*R$21 -> 2242.5 | S24: =R24-R$18-Q24-56 -> 616.9 | U24: =R24-U$18-Q24-48 -> 734.9
A25: 145 | B25: =A25*B$26 -> 290 | C25: =A25*D$21 -> 3190 | D25: =C25-D$18-B25-96 -> 1585.9 | E25: 76 | F25: =E25*B$26 -> 152 | G25: =E25*G$21 -> 3116 | H25: =G25-G$18-F25-96 -> 1654.3 | J25: =G25-J$18-F25-96 -> 1788.4 | L25: 145 | M25: =L25*M$26 -> 304.5 | N25: =L25*O$21 -> 3335 | O25: =N25-O$18-M25-112 -> 839 | P25: 76 | Q25: =P25*M$26 -> 159.6 | R25: =P25*R$21 -> 2622 | S25: =R25-R$18-Q25-112 -> 917.3 | U25: =R25-U$18-Q25-96 -> 1043.3
A26: Custo do frete / sc = | B26: 2 | L26: Custo do frete / sc = | M26: 2.1
B27: Custo /sc | F27: Custo | H27: relativo milho | I27: Custo /sc | J27: relativo milho | M27: Custo /sc | Q27: Custo/sc | S27: sobra rel milho | T27: Custo /sc | U27: sobr/milho
A28: 100 | B28: =(D$18+B23)/A28 -> 14.181 | E28: 40 | F28: =(G$18+F23)/E28 -> 32.9425 | H28: =H23/D23 -> 1.0414375 | I28: =(J$18+F23)/E28 -> 29.59 | J28: =J23/D23 -> 1.2129428 | L28: 100 | M28: =(O$18+M23)/L28 -> 22.895 | P28: 52 | Q28: =(R$18+Q23)/P28 -> 29.659615 | S28: =S23/(-O23) -> -23.971429 | T28: =(U$18+Q23)/P28 -> 27.544231 | U28: =U23/(-O23) -> -34.447619
A29: 125 | B29: =(D$18+B24+48)/A29 -> 12.1288 | E29: 50 | F29: =(G$18+F24+48)/E29 -> 27.834 | H29: =H24/D24 -> 1.0319313 | I29: =(J$18+F24+48)/E29 -> 25.152 | J29: =J24/D24 -> 1.1406111 | L29: 125 | M29: =(O$18+M24+48)/L29 -> 19.12 | P29: 65 | Q29: =(R$18+Q24+48)/P29 -> 24.886154 | S29: =S24/O24 -> 1.2932914 | T29: =(U$18+Q24+48)/P29 -> 23.193846 | U29: =U24/O24 -> 1.5406709
A30: 145 | B30: =(D$18+B25+96)/A30 -> 11.062759 | E30: 60 | F30: =(G$18+F25+96)/E30 -> 24.361667 | H30: =H25/D25 -> 1.0431301 | I30: =(J$18+F25+96)/E30 -> 22.126667 | J30: =J25/D25 -> 1.1276877 | L30: 145 | M30: =(O$18+M25+96)/L30 -> 17.103448 | P30: 76 | Q30: =(R$18+Q25+96)/P30 -> 22.219737 | S30: =S25/O25 -> 1.0933254 | T30: =(U$18+Q25+96)/P30 -> 20.772368 | U30: =U25/O25 -> 1.2435042
A32: Para aumentar os rendimentos em cada categoria se aumentou a adubação em 40 e 80 Kg/há a um custo de | L32: Para aumentar os rendimentos em cada categoria se aumentou a adubação em 40 e 80 Kg/há a um custo de
A33: R$ 48,00 e R$ 96,00. | L33: R$ 56,00 e R$ 112,00.
A34: O custo do adubo ainda foi calculado com vantagem para o milho, porque esse retira bem mais do | L34: O custo do adubo ainda foi calculado com vantagem para o milho, porque esse retira bem mais do
A35: que o trigo como mostra a tabela em baixo | L35: que o trigo como mostra a tabela em baixo
D37: N | E37: P2O5 | F37: K2O | G37: S | L37: A relação de Custos obriga trigo a ser 1,4 vezes mais caro que milho 2ª safra, para dra o mesmo retorno.
A38: Teor no grão milho | D38: 0.016 | E38: 0.009 | F38: 0.006 | G38: 0.0019
A39: Milho 100sc / há | B39: retira Kg/há | D39: 96 | E39: 54 | F39: 36 | G39: 11.4 | O39: N | P39: P2O5 | Q39: K2O | R39: S
A40: Teor no grão trigo | D40: 0.023 | E40: 0.009 | F40: 0.005 | G40: 0.0022 | L40: Teor no grão milho | O40: 0.016 | P40: 0.009 | Q40: 0.006 | R40: 0.0019
A41: Trigo 45 sc / há | B41: retira Kg/há | D41: 62 | E41: 24 | F41: 14 | G41: 6 | L41: Milho 100sc / há | M41: retira Kg/há | O41: 96 | P41: 54 | Q41: 36 | R41: 11.4
L42: Teor no grão trigo | O42: 0.023 | P42: 0.009 | Q42: 0.005 | R42: 0.0022
L43: Trigo 50 sc / há | M43: retira Kg/há | O43: 70 | P43: 27 | Q43: 15 | R43: 6.6
L44: no geral trigo retira 55% dos nutrientes que o milho retira com os grãos, por isso necessita maior adubação
...

Sheet Trigo Industria
D9: Comparação de Custos na Produção
D11: Cultura.: | F11: Trigo Industria Safra 2018/2019 | L11: Preço Trigo.: | N11: 49
D13: Custos.: | F13: Kg/Lt | H13: Aplicação | J13: Preço R$ | L13: Total R$ | N13: Total do Custo - Planejado/Alq
B15: Dessecação | D15: Roudup Transorb | F15: 3 | H15: 1 | J15: 18 | L15: =((F15)*(H15)*(J15)) -> 54 | N15: Dessecação | P15: =SUM((L15:L18)) -> 54
D16: U-46 Prime | F16: 0 | H16: 0 | J16: 0 | L16: =((F16)*(H16)*(J16)) -> 0 | N16: Sementes | P16: =SUM((L20:L23)) -> 486
D17: Aurora | F17: 0 | H17: 0 | J17: 0 | L17: =((F17)*(H17)*(J17)) -> 0 | N17: Adubação | P17: =SUM((L25:L28)) -> 1305
D18: Gramocil | F18: 0 | H18: 0 | J18: 0 | L18: =((F18)*(H18)*(J18)) -> 0 | N18: Tratamento de Sementes | P18: =SUM((L30:L33)) -> 89.4
A19: C | N19: Inseticidas | P19: =SUM((L35:L38)) -> 202
B20: Sementes | D20: RBO 303 | F20: 270 | H20: 0 | J20: 1.75 | L20: =((F20)*(H20)*(J20)) -> 0
D21: RBO 2B5 | F21: 270 | H21: 1 | J21: 1.8 | L21: =((F21)*(H21)*(J21)) -> 486 | N21: Fungicidas | P21: =SUM((L40:L43)) -> 330
D22: RBO 3B6 | F22: 270 | H22: 0 | J22: 1.8 | L22: =((F22)*(H22)*(J22)) -> 0 | N22: Foliares | P22: =SUM((L45:L48)) -> 75
D23: RBO 2P1 | F23: 280 | H23: 0 | J23: 0 | L23: =((F23)*(H23)*(J23)) -> 0 | N23: Herbicida Pós-emergente | P23: =SUM((L50:L53)) -> 279
A24: C | N24: Serviços | P24: =SUM((L55:L58)) -> 620.8
B25: Adubação | D25: Adubo 12-15-15 | F25: 0.6 | H25: 1 | J25: 1700 | L25: =((F25)*(H25)*(J25)) -> 1020
D26: Adubo 16-16-16 | F26: 0 | H26: 0 | J26: 0 | L26: =((F26)*(H26)*(J26)) -> 0
D27: Uréia 45-00-00 | F27: 0.15 | H27: 1 | J27: 1900 | L27: =((F27)*(H27)*(J27)) -> 285 | N27: TOTAL | P27: =SUM((P15:P25)) -> 3441.2
D28: Sulfato de Amônia | F28: 0 | H28: 0 | J28: 0 | L28: =((F28)*(H28)*(J28)) -> 0
A29: C
B30: TS | D30: Vitavax Tiram | F30: 0.6 | H30: 1 | J30: 50 | L30: =((F30)*(H30)*(J30)) -> 30
D31: Imidacloprid | F31: 1.5 | H31: 0 | J31: 250 | L31: =((F31)*(H31)*(J31)) -> 0
D32: Spectro | F32: 20 | J32: 0 | L32: =((F32)*(H32)*(J32)) -> 0
D33: CropStar | F33: 0.1 | H33: =F20/100 -> 2.7 | J33: 220 | L33: =((F33)*(H33)*(J33)) -> 59.4
A34: C
B35: Inseticida | D35: Engeo Pleno S | F35: 0.24 | H35: 1 | J35: 175 | L35: =((F35)*(H35)*(J35)) -> 42
D36: Certero | F36: 0.07 | J36: 80 | L36: =((F36)*(H36)*(J36)) -> 0
D37: Bold | F37: 2 | H37: 1 | J37: 80 | L37: =((F37)*(H37)*(J37)) -> 160
D38: Talcord 250 | F38: 0 | J38: 0 | L38: =((F38)*(H38)*(J38)) -> 0
A39: C
B40: Fungicida | D40: Tilt | F40: 1.8 | H40: 2 | J40: 50 | L40: =((F40)*(H40)*(J40)) -> 180
D41: Nativo | F41: 1.8 | H41: 0 | J41: 0 | L41: =((F41)*(H41)*(J41)) -> 0
D42: Mancozebe | F42: 6 | H42: 1 | J42: 25 | L42: =((F42)*(H42)*(J42)) -> 150
D43: Caramba | F43: 2.4 | H43: 0 | J43: 0 | L43: =((F43)*(H43)*(J43)) -> 0
A44: C
B45: Foliares | D45: Super N | F45: 0 | H45: 0 | J45: 0 | L45: =((F45)*(H45)*(J45)) -> 0
D46: Supa Moly CO/MO | F46: 0 | H46: 0 | J46: 0 | L46: =((F46)*(H46)*(J46)) -> 0
D47: Booster | F47: 0.5 | H47: 1 | J47: 150 | L47: =((F47)*(H47)*(J47)) -> 75
D48: Agri K | F48: 0 | H48: 0 | J48: 0 | L48: =((F48)*(H48)*(J48)) -> 0
A49: C
B50: Herbicida Pós Emergência | D50: 2,4D amina | F50: 0.5 | H50: 0 | J50: 0 | L50: =((F50)*(H50)*(J50)) -> 0
D51: Topik | F51: 0.6 | H51: 1 | J51: 450 | L51: =((F51)*(H51)*(J51)) -> 270
...

Sheet Milho Industria
D9: Comparação de Custos na Produção
D11: Cultura.: | F11: Milho Safrinha Safra 2018/2019 | L11: Preço Milho.: | N11: 38
D13: Custos.: | F13: Kg/Lt | H13: Aplicação | J13: Preço R$ | L13: Total R$ | N13: Total do Custo - Planejado/Alq
B15: Dessecação | D15: Roudup Transorb | F15: 3 | H15: 1 | J15: 18 | L15: =((F15)*(H15)*(J15)) -> 54 | N15: Dessecação | P15: =SUM((L15:L18)) -> 54
D16: U-46 Prime | F16: 0 | H16: 0 | J16: 0 | L16: =((F16)*(H16)*(J16)) -> 0 | N16: Sementes | P16: =SUM((L20:L23)) -> 990
D17: Aurora | F17: 0 | H17: 0 | J17: 0 | L17: =((F17)*(H17)*(J17)) -> 0 | N17: Adubação | P17: =SUM((L25:L28)) -> 1645
D18: Gramocil | F18: 0 | H18: 0 | J18: 0 | L18: =((F18)*(H18)*(J18)) -> 0 | N18: Tratamento de Sementes | P18: =SUM((L30:L33)) -> 0
A19: C | N19: Inseticidas | P19: =SUM((L35:L38)) -> 373
B20: Sementes | D20: DKB 330 PRO2 | F20: 1 | H20: 2.2 | J20: 450 | L20: =((F20)*(H20)*(J20)) -> 990
D21: STATUS VIP3 | F21: 0 | H21: 0 | J21: 500 | L21: =((F21)*(H21)*(J21)) -> 0 | N21: Fungicidas | P21: =SUM((L40:L43)) -> 189
D22: Dow 2K433 PW | F22: 0 | H22: 0 | J22: 480 | L22: =((F22)*(H22)*(J22)) -> 0 | N22: Foliares | P22: =SUM((L45:L48)) -> 210
D23: AG9050 PRO3 | F23: 0 | H23: 0 | J23: 430 | L23: =((F23)*(H23)*(J23)) -> 0 | N23: Herbicida Pós-emergente | P23: =SUM((L50:L53)) -> 360
A24: C | N24: Serviços | P24: =SUM((L55:L58)) -> 709.21
B25: Adubação | D25: Adubo 12-15-15 | F25: 0.8 | H25: 1 | J25: 1700 | L25: =((F25)*(H25)*(J25)) -> 1360
D26: Adubo 16-16-16 | F26: 0 | H26: 0 | J26: 0 | L26: =((F26)*(H26)*(J26)) -> 0
D27: Uréia 45-00-00 | F27: 0.15 | H27: 1 | J27: 1900 | L27: =((F27)*(H27)*(J27)) -> 285 | N27: TOTAL | P27: =SUM((P15:P25)) -> 4530.21
D28: Sulfato de Amônia | F28: 0 | H28: 0 | J28: 0 | L28: =((F28)*(H28)*(J28)) -> 0
A29: C
B30: TS | D30: Maxim | F30: 0 | H30: 0 | J30: 0 | L30: =((F30)*(H30)*(J30)) -> 0
D31: Imidacloprid | F31: 2.3 | H31: 0 | J31: 250 | L31: =((F31)*(H31)*(J31)) -> 0
D32: Standak | F32: 0 | H32: 0 | J32: 0 | L32: =((F32)*(H32)*(J32)) -> 0
D33: CropStar | F33: 0 | H33: 0 | J33: 0 | L33: =((F33)*(H33)*(J33)) -> 0
A34: C
B35: Inseticida | D35: Engeo Pleno | F35: 0.7 | H35: 2 | J35: 175 | L35: =((F35)*(H35)*(J35)) -> 245
D36: Nomolt | F36: 0 | H36: 0 | J36: 0 | L36: =((F36)*(H36)*(J36)) -> 0
D37: Ampligo | F37: 0.4 | H37: 1 | J37: 320 | L37: =((F37)*(H37)*(J37)) -> 128
D38: Talstar | F38: 0 | H38: 0 | J38: 0 | L38: =((F38)*(H38)*(J38)) -> 0
A39: C
B40: Fungicida | D40: Tilt | F40: 0 | H40: 0 | J40: 0 | L40: =((F40)*(H40)*(J40)) -> 0
D41: Priori Xtra | F41: 0.7 | H41: 1 | J41: 130 | L41: =((F41)*(H41)*(J41)) -> 91
D42: Aproch | F42: 0.7 | H42: 1 | J42: 140 | L42: =((F42)*(H42)*(J42)) -> 98
D43: Orkestra | F43: 0 | H43: 0 | J43: 0 | L43: =((F43)*(H43)*(J43)) -> 0
A44: C
B45: Foliares | D45: Super N | F45: 0 | H45: 0 | J45: 0 | L45: =((F45)*(H45)*(J45)) -> 0
D46: Supa Moly CO/MO | F46: 0 | H46: 0 | J46: 0 | L46: =((F46)*(H46)*(J46)) -> 0
D47: Booster | F47: 0.7 | H47: 2 | J47: 150 | L47: =((F47)*(H47)*(J47)) -> 210
D48: Agri K | F48: 0 | H48: 0 | J48: 0 | L48: =((F48)*(H48)*(J48)) -> 0
A49: C
B50: Herbicida Pós Emergência | D50: Roundup WG | F50: 5 | H50: 2 | J50: 27 | L50: =((F50)*(H50)*(J50)) -> 270
D51: Sanson 40 SC | F51: 0 | H51: 0 | J51: 0 | L51: =((F51)*(H51)*(J51)) -> 0
...

Sheet Comparativo - Trigo x Milho
B2: Total do Custo - Planejado/Alq | F2: Total do Custo - Planejado/Alq
B3: Cultura do Trigo Industria | F3: Cultura do Milho Safrinha
B5: Dessecação | D5: ='Trigo Industria'!P15 -> 54 | F5: Dessecação | H5: ='Milho Industria'!P15 -> 54
B6: Sementes | D6: ='Trigo Industria'!P16 -> 486 | F6: Sementes | H6: ='Milho Industria'!P16 -> 990
B7: Adubação | D7: ='Trigo Industria'!P17 -> 1305 | F7: Adubação | H7: ='Milho Industria'!P17 -> 1645
B8: Tratamento de Sementes | D8: ='Trigo Industria'!P18 -> 89.4 | F8: Tratamento de Sementes | H8: ='Milho Industria'!P18 -> 0
B9: Inseticidas | D9: ='Trigo Industria'!P19 -> 202 | F9: Inseticidas | H9: ='Milho Industria'!P19 -> 373
B10: Fungicidas | D10: ='Trigo Industria'!P21 -> 330 | F10: Fungicidas | H10: ='Milho Industria'!P21 -> 189
B11: Foliares | D11: ='Trigo Industria'!P22 -> 75 | F11: Foliares | H11: ='Milho Industria'!P22 -> 210
B12: Herbicida Pós-emergente | D12: ='Trigo Industria'!P23 -> 279 | F12: Herbicida Pós-emergente | H12: ='Milho Industria'!P23 -> 360
B13: Serviços | D13: ='Trigo Industria'!P24 -> 620.8 | F13: Serviços | H13: ='Milho Industria'!P24 -> 709.21
B15: TOTAL | D15: =SUM((D5:D13)) -> 3441.2 | F15: TOTAL | H15: =SUM((H5:H13)) -> 4530.21
B17: Sobra - Planejado/Alq. | F17: Total do Custo - Planejado/Alq
B18: Cultura do Trigo Industria | F18: Cultura do Milho Safrinha
B19: Trigo Industria | C19: ='Trigo Industria'!D61 -> 90 | D19: ='Trigo Industria'!L61 -> 851.8 | F19: Milho Industria | G19: ='Milho Industria'!D61 -> 150 | H19: ='Milho Industria'!L61 -> 974.79
C20: ='Trigo Industria'!D62 -> 125 | D20: ='Trigo Industria'!L62 -> 2465.3 | G20: ='Milho Industria'!D62 -> 200 | H20: ='Milho Industria'!L62 -> 2753.79
C21: ='Trigo Industria'!D63 -> 160 | D21: ='Trigo Industria'!L63 -> 4078.8 | G21: ='Milho Industria'!D63 -> 250 | H21: ='Milho Industria'!L63 -> 4532.79
C22: ='Trigo Industria'!D64 -> 200 | D22: ='Trigo Industria'!L64 -> 5986.8 | G22: ='Milho Industria'!D64 -> 320 | H22: ='Milho Industria'!L64 -> 7101.79
